BEGIN:VCALENDAR
VERSION:2.0
PRODID:-//eventon.com NONSGML v1.0//EN
CALSCALE:GREGORIAN
METHOD:PUBLISH
BEGIN:VEVENT
UID:69e7395e9f9b4
DTSTAMP:20260421T084622Z
DTSTART:20240604T130000Z
DTEND:20240604T140000Z
LOCATION:Recovery Drop-In Center 156 NE 8th St
SUMMARY:Seeking Safety @ Group Room
DESCRIPTION:\nhttps://newhopercc.org/events/seeking-safety-group-room/
URL:https://newhopercc.org/events/seeking-safety-group-room/
END:VEVENT
END:VCALENDAR