BEGIN:VCALENDAR
VERSION:2.0
PRODID:-//eventon.com NONSGML v1.0//EN
CALSCALE:GREGORIAN
METHOD:PUBLISH
BEGIN:VEVENT
UID:69e5e0e20ba0f
DTSTAMP:20260420T081634Z
DTSTART:20240522T160000Z
DTEND:20240522T170000Z
LOCATION:Recovery Drop-In Center 156 NE 8th St
SUMMARY:WRAP Group @ Group Room
DESCRIPTION:\nhttps://newhopercc.org/events/wrap-group-group-room/
URL:https://newhopercc.org/events/wrap-group-group-room/
END:VEVENT
END:VCALENDAR