BEGIN:VCALENDAR
VERSION:2.0
PRODID:-//eventon.com NONSGML v1.0//EN
CALSCALE:GREGORIAN
METHOD:PUBLISH
BEGIN:VEVENT
UID:69e7389e0ef09
DTSTAMP:20260421T084310Z
DTSTART:20241024T220000Z
DTEND:20241025T000000Z
LOCATION:
SUMMARY:Art as Hope:  Breast Cancer Reflections
DESCRIPTION:\nhttps://newhopercc.org/events/art-as-hope-breast-cancer-refle
 ctions/
URL:https://newhopercc.org/events/art-as-hope-breast-cancer-reflections/
END:VEVENT
END:VCALENDAR